BEGIN:VCALENDAR
VERSION:2.0
PRODID:-//SSO Marburg - ECPv6.2.0.1//NONSGML v1.0//EN
CALSCALE:GREGORIAN
METHOD:PUBLISH
X-ORIGINAL-URL:https://www.sso-marburg.de
X-WR-CALDESC:Veranstaltungen für SSO Marburg
REFRESH-INTERVAL;VALUE=DURATION:PT1H
X-Robots-Tag:noindex
X-PUBLISHED-TTL:PT1H
BEGIN:VTIMEZONE
TZID:Europe/Berlin
BEGIN:DAYLIGHT
TZOFFSETFROM:+0100
TZOFFSETTO:+0200
TZNAME:CEST
DTSTART:20220327T010000
END:DAYLIGHT
BEGIN:STANDARD
TZOFFSETFROM:+0200
TZOFFSETTO:+0100
TZNAME:CET
DTSTART:20221030T010000
END:STANDARD
BEGIN:DAYLIGHT
TZOFFSETFROM:+0100
TZOFFSETTO:+0200
TZNAME:CEST
DTSTART:20230326T010000
END:DAYLIGHT
BEGIN:STANDARD
TZOFFSETFROM:+0200
TZOFFSETTO:+0100
TZNAME:CET
DTSTART:20231029T010000
END:STANDARD
BEGIN:DAYLIGHT
TZOFFSETFROM:+0100
TZOFFSETTO:+0200
TZNAME:CEST
DTSTART:20240331T010000
END:DAYLIGHT
BEGIN:STANDARD
TZOFFSETFROM:+0200
TZOFFSETTO:+0100
TZNAME:CET
DTSTART:20241027T010000
END:STANDARD
END:VTIMEZONE
BEGIN:VEVENT
DTSTART;TZID=Europe/Berlin:20240204T160000
DTEND;TZID=Europe/Berlin:20240204T210000
DTSTAMP:20260424T205638
CREATED:20231029T140047Z
LAST-MODIFIED:20231029T140047Z
UID:4764-1707062400-1707080400@www.sso-marburg.de
SUMMARY:Semesterabschlusskonzert
DESCRIPTION:Zweites Semesterabschlusskonzert im Wintersemester 2023/2024.  \nVorher Anspielprobe am Nachmittag (Zeiten werden noch bekanntgegeben)
URL:https://www.sso-marburg.de/event/semesterabschlusskonzert-4/
LOCATION:Lutherische Pfarrkirche
CATEGORIES:Konzert,Semesterabschlusskonzert
END:VEVENT
BEGIN:VEVENT
DTSTART;TZID=Europe/Berlin:20240130T180000
DTEND;TZID=Europe/Berlin:20240130T220000
DTSTAMP:20260424T205638
CREATED:20231029T135705Z
LAST-MODIFIED:20231029T135705Z
UID:4762-1706637600-1706652000@www.sso-marburg.de
SUMMARY:Semesterabschlusskonzert
DESCRIPTION:Konzert mit Anspielprobe ab 18.00 Uhr. (Zeitl. Änderungen sind möglich)  \nKonzertkleidung: schwarz/schwarz
URL:https://www.sso-marburg.de/event/semesterabschlusskonzert-3/
LOCATION:Lutherische Pfarrkirche
CATEGORIES:Konzert,Semesterabschlusskonzert
ORGANIZER;CN="SSO%20Marburg%20e.V.":MAILTO:sso@sso-marburg.de
END:VEVENT
BEGIN:VEVENT
DTSTART;TZID=Europe/Berlin:20240129T180000
DTEND;TZID=Europe/Berlin:20240129T220000
DTSTAMP:20260424T205638
CREATED:20231029T135415Z
LAST-MODIFIED:20231029T135415Z
UID:4759-1706551200-1706565600@www.sso-marburg.de
SUMMARY:Generalprobe
DESCRIPTION:
URL:https://www.sso-marburg.de/event/generalprobe-3/
LOCATION:Lutherische Pfarrkirche
CATEGORIES:Probe
END:VEVENT
BEGIN:VEVENT
DTSTART;TZID=Europe/Berlin:20240112T154500
DTEND;TZID=Europe/Berlin:20240114T150000
DTSTAMP:20260424T205638
CREATED:20231029T133619Z
LAST-MODIFIED:20231029T133659Z
UID:4755-1705074300-1705244400@www.sso-marburg.de
SUMMARY:Probenwochenende am Edersee
DESCRIPTION:Jedes Semester fahren die Musiker*innen des SSO an den Edersee in die Jugendherberge in Waldeck.  \nDazu fährt am Freitag\, 12.01.2024 um 16 Uhr ein Bus am Erwin Piscator Haus los. Weitere Informationen werden per Mail bekannt gegeben!  \nAm Sonntag wird ebenso ein Bus von Waldeck nach Marburg fahren\, sodass alle Mitspieler*innen gegen 15 Uhr wieder in Marburg sind.
URL:https://www.sso-marburg.de/event/probenwochenende-am-edersee/
LOCATION:Waldeck\, Klippenberg 3\, Waldeck\, Hessen\, 34513\, Deutschland
CATEGORIES:Probenwochenende,Wichtig
END:VEVENT
BEGIN:VEVENT
DTSTART;TZID=Europe/Berlin:20240108T184500
DTEND;TZID=Europe/Berlin:20240108T220000
DTSTAMP:20260424T205638
CREATED:20231029T133022Z
LAST-MODIFIED:20231029T133022Z
UID:4752-1704739500-1704751200@www.sso-marburg.de
SUMMARY:Probe in Waggonhalle
DESCRIPTION:Willkommen im Neuen Jahr!\nDie Probe am 08.01. wird in der Waggonhalle Marburg (beim Hauptbahnhof Marburg) stattfinden!!
URL:https://www.sso-marburg.de/event/probe-in-waggonhalle/
LOCATION:Waggonhalle Marburg\, Rudolf-Bultmann-Str. 2a\, Marburg\, 35039
CATEGORIES:Probe
END:VEVENT
BEGIN:VEVENT
DTSTART;TZID=Europe/Berlin:20240101T190000
DTEND;TZID=Europe/Berlin:20240101T220000
DTSTAMP:20260424T205638
CREATED:20231023T141727Z
LAST-MODIFIED:20231023T141727Z
UID:4712-1704135600-1704146400@www.sso-marburg.de
SUMMARY:Neujahrskonzert 2024
DESCRIPTION:In Kooperation mit dem Veranstaltungsmanagement des Erwin-Piscator-Hauses (EPH) der Universitätsstadt Marburg freut sich das Studentische Sinfonieorchester (SSO) Marburg e.V. ganz besonders das traditionelle Neujahrskonzert für Montag\, den 1. Januar 2024\, anzukündigen.  \nGemeinsam mit dem EPH Marburg heißt das rund 60-köpfige SSO Sie im Neuen Jahr 2024 willkommen.\nAls Auftakt des Konzertes erklingt die Walt Whitman Ouvertüre von Gustav Holst\, gefolgt von einem Walzer aus Tschaikowskys Dornröschen. Lassen Sie sich anschließend von Gershwins Rhapsody in Blue\, dem Orientalischen Marsch aus Nielsens Aladdin Suite und vielen weiteren musikalischen Werken verzaubern.  \nDas kommende Neujahrskonzert findet am Montag\, den 1. Januar 2024 um 19 Uhr im Saal des Erwin-Piscator-Hauses\, Biegenstraße 15\, 35037 in Marburg statt. Eintrittskarten können bei allen bekannten Vorverkaufsstellen über Reservix\, sowie nach Verfügbarkeit an der Abendkasse erworben werden.  \nDas EPH Marburg und das SSO freuen sich ausdrücklich auf Ihren Konzertbesuch und einen gemeinsamen musikalischen Abend zum Start ins Neue Jahr 2024.
URL:https://www.sso-marburg.de/event/neujahrskonzert-2024/
LOCATION:Erwin-Piscator-Haus\, Biegenstraße 15\, Marburg\, 35037
CATEGORIES:Konzert
END:VEVENT
BEGIN:VEVENT
DTSTART;TZID=Europe/Berlin:20231211T184500
DTEND;TZID=Europe/Berlin:20231211T220000
DTSTAMP:20260424T205638
CREATED:20231027T133451Z
LAST-MODIFIED:20231027T133451Z
UID:4741-1702320300-1702332000@www.sso-marburg.de
SUMMARY:Probe
DESCRIPTION:
URL:https://www.sso-marburg.de/event/probe-35/
LOCATION:Martin-Luther-Schule
CATEGORIES:Probe
END:VEVENT
BEGIN:VEVENT
DTSTART;TZID=Europe/Berlin:20231204T184500
DTEND;TZID=Europe/Berlin:20231204T220000
DTSTAMP:20260424T205638
CREATED:20231027T133051Z
LAST-MODIFIED:20231029T132324Z
UID:4736-1701715500-1701727200@www.sso-marburg.de
SUMMARY:Probe mit Dozenten
DESCRIPTION:Einzelprobe für alle Streicher\, Blechis und Holzis.  \nStellen und Probenorte werden noch bekannt gegeben.
URL:https://www.sso-marburg.de/event/probe-33/
LOCATION:Martin-Luther-Schule
END:VEVENT
BEGIN:VEVENT
DTSTART;TZID=Europe/Berlin:20231127T184500
DTEND;TZID=Europe/Berlin:20231127T220000
DTSTAMP:20260424T205638
CREATED:20231027T133303Z
LAST-MODIFIED:20231027T133303Z
UID:4739-1701110700-1701122400@www.sso-marburg.de
SUMMARY:Probe
DESCRIPTION:
URL:https://www.sso-marburg.de/event/probe-34/
LOCATION:Martin-Luther-Schule
END:VEVENT
BEGIN:VEVENT
DTSTART;TZID=Europe/Berlin:20231120T184500
DTEND;TZID=Europe/Berlin:20231120T220000
DTSTAMP:20260424T205638
CREATED:20231027T132857Z
LAST-MODIFIED:20231027T132857Z
UID:4734-1700505900-1700517600@www.sso-marburg.de
SUMMARY:Probe
DESCRIPTION:
URL:https://www.sso-marburg.de/event/probe-32/
LOCATION:Martin-Luther-Schule
END:VEVENT
BEGIN:VEVENT
DTSTART;TZID=Europe/Berlin:20231113T184500
DTEND;TZID=Europe/Berlin:20231113T220000
DTSTAMP:20260424T205638
CREATED:20231027T132602Z
LAST-MODIFIED:20231027T132602Z
UID:4732-1699901100-1699912800@www.sso-marburg.de
SUMMARY:Probe
DESCRIPTION:
URL:https://www.sso-marburg.de/event/probe-31/
LOCATION:Martin-Luther-Schule
END:VEVENT
BEGIN:VEVENT
DTSTART;TZID=Europe/Berlin:20231106T184500
DTEND;TZID=Europe/Berlin:20231106T220000
DTSTAMP:20260424T205638
CREATED:20231027T132423Z
LAST-MODIFIED:20231027T132423Z
UID:4730-1699296300-1699308000@www.sso-marburg.de
SUMMARY:Registerprobe
DESCRIPTION:Informationen zum Probenort und den Stellen der Probe folgen bald!
URL:https://www.sso-marburg.de/event/registerprobe-2/
END:VEVENT
BEGIN:VEVENT
DTSTART;TZID=Europe/Berlin:20231030T175000
DTEND;TZID=Europe/Berlin:20231030T220000
DTSTAMP:20260424T205638
CREATED:20231027T132041Z
LAST-MODIFIED:20231027T132041Z
UID:4727-1698688200-1698703200@www.sso-marburg.de
SUMMARY:Probe und Fototermin
DESCRIPTION:Am kommenden Montag findet eine Probe mit Fototermin statt! \nDeshalb treffen wir uns schon um 17.50 Uhr an der Martin-Luther-Schule mit Stephan Tang  \nBitte kommt in Konzertkleidung: schwarz/schwarz für alle. \nProbenprogramm: 1. Satz Bruckner\, 2.-4. Satz Elgar
URL:https://www.sso-marburg.de/event/probe-und-fototermin/
LOCATION:Martin-Luther-Schule
CATEGORIES:Probe
END:VEVENT
BEGIN:VEVENT
DTSTART;TZID=Europe/Berlin:20231029T080000
DTEND;TZID=Europe/Berlin:20231029T170000
DTSTAMP:20260424T205638
CREATED:20231029T135030Z
LAST-MODIFIED:20231029T135030Z
UID:4757-1698566400-1698598800@www.sso-marburg.de
SUMMARY:Hauptprobe in der ESG
DESCRIPTION:Tagsüber findet eine letzte Hauptprobe aller Werke statt.  \nUhrzeiten werden noch bekannt gegeben. (typischerweise ist die Probenzeit von 10.00 Uhr – 17.00 Uhr)
URL:https://www.sso-marburg.de/event/hauptprobe-in-der-esg/
CATEGORIES:Hauptprobe
END:VEVENT
BEGIN:VEVENT
DTSTART;TZID=Europe/Berlin:20231023T184500
DTEND;TZID=Europe/Berlin:20231023T220000
DTSTAMP:20260424T205638
CREATED:20231015T150904Z
LAST-MODIFIED:20231015T150904Z
UID:4691-1698086700-1698098400@www.sso-marburg.de
SUMMARY:Probe im Saal der Kurhessischen Kantorei
DESCRIPTION:Programm: 4. + 3. Satz Bruckner\, vor der Probe: Erstivorspiel
URL:https://www.sso-marburg.de/event/probe-im-saal-der-kurhessischen-kantorei/
LOCATION:Saal der Kurhessischen Kantorei
CATEGORIES:Probe
END:VEVENT
BEGIN:VEVENT
DTSTART;TZID=Europe/Berlin:20231016T183000
DTEND;TZID=Europe/Berlin:20231016T220000
DTSTAMP:20260424T205638
CREATED:20230914T150736Z
LAST-MODIFIED:20231015T152844Z
UID:4675-1697481000-1697493600@www.sso-marburg.de
SUMMARY:Schnupperprobe 16.10.2023
DESCRIPTION:Programm: 1. + 2. Satz Bruckner\, 1. Satz Elgar
URL:https://www.sso-marburg.de/event/schnupperprobe-16-10-2023/
LOCATION:Martin-Luther-Schule
CATEGORIES:Alle Veranstaltungen,Probe,Wichtig
ORGANIZER;CN="SSO%20Marburg%20e.V.":MAILTO:sso@sso-marburg.de
END:VEVENT
BEGIN:VEVENT
DTSTART;TZID=Europe/Berlin:20230128T100000
DTEND;TZID=Europe/Berlin:20230128T180000
DTSTAMP:20260424T205638
CREATED:20230127T011252Z
LAST-MODIFIED:20230127T021254Z
UID:4412-1674900000-1674928800@www.sso-marburg.de
SUMMARY:Hauptprobe 28.1.2023
DESCRIPTION:28.01.2023 Hauptprobe \n10:00-12:30 Pauer nur Orchester / ab 11:45-12:30 Wagner  \n12:30-13:30 Mittagessen  \n13:30-14:30 Pauer mit Christoph Eß \n14:30-18:00 Game of Thrones + Dvořák
URL:https://www.sso-marburg.de/event/hauptprobe-28-1-2023/
CATEGORIES:Alle Veranstaltungen,Hauptprobe,Probe
END:VEVENT
BEGIN:VEVENT
DTSTART;TZID=Europe/Berlin:20221004T100000
DTEND;TZID=Europe/Berlin:20221004T210000
DTSTAMP:20260424T205638
CREATED:20220907T125437Z
LAST-MODIFIED:20220907T125448Z
UID:3944-1664877600-1664917200@www.sso-marburg.de
SUMMARY:Missa Brevis Probe 4.10.2022
DESCRIPTION:Orchesterprobe für die Missa Brevis mit Jieun
URL:https://www.sso-marburg.de/event/missa-brevis-probe-4-10-2022/
LOCATION:Audimax\, Biegenstraße 14\, Marburg\, 35037
CATEGORIES:Probe
END:VEVENT
BEGIN:VEVENT
DTSTART;TZID=Europe/Berlin:20220711T190000
DTEND;TZID=Europe/Berlin:20220711T220000
DTSTAMP:20260424T205638
CREATED:20220708T140646Z
LAST-MODIFIED:20220708T140646Z
UID:3928-1657566000-1657576800@www.sso-marburg.de
SUMMARY:Generalprobe 11.07.2022
DESCRIPTION:19:00 – 22:00: Generalprobe\, Konzertreihenfolge
URL:https://www.sso-marburg.de/event/generalprobe-11-07-2022/
LOCATION:Audimax\, Biegenstraße 14\, Marburg\, 35037
CATEGORIES:Alle Veranstaltungen,Probe,Wichtig
ORGANIZER;CN="SSO%20Marburg%20e.V.":MAILTO:sso@sso-marburg.de
END:VEVENT
BEGIN:VEVENT
DTSTART;TZID=Europe/Berlin:20220711T180000
DTEND;TZID=Europe/Berlin:20220711T190000
DTSTAMP:20260424T205638
CREATED:20220708T140523Z
LAST-MODIFIED:20220708T141606Z
UID:3926-1657562400-1657566000@www.sso-marburg.de
SUMMARY:Außerordentliche Mitgliederversammlung 11.07.2022
DESCRIPTION:18:00 – 19:00: Außerordentliche Mitgliederversammlung\, HSG +2/110
URL:https://www.sso-marburg.de/event/ausserordentliche-mitgliederversammlung-11-07-2022/
CATEGORIES:Wichtig
END:VEVENT
BEGIN:VEVENT
DTSTART;TZID=Europe/Berlin:20220710T100000
DTEND;TZID=Europe/Berlin:20220710T180000
DTSTAMP:20260424T205638
CREATED:20220708T140219Z
LAST-MODIFIED:20220708T140321Z
UID:3923-1657447200-1657476000@www.sso-marburg.de
SUMMARY:Hauptprobe 10.07.2022
DESCRIPTION:10:00 – 18:00: Hauptprobe
URL:https://www.sso-marburg.de/event/hauptprobe-10-07-2022/
LOCATION:Audimax\, Biegenstraße 14\, Marburg\, 35037
CATEGORIES:Alle Veranstaltungen,Hauptprobe,Probe,Wichtig
ORGANIZER;CN="SSO%20Marburg%20e.V.":MAILTO:sso@sso-marburg.de
END:VEVENT
BEGIN:VEVENT
DTSTART;TZID=Europe/Berlin:20220704T190000
DTEND;TZID=Europe/Berlin:20220704T220000
DTSTAMP:20260424T205638
CREATED:20220630T155304Z
LAST-MODIFIED:20220630T155304Z
UID:3919-1656961200-1656972000@www.sso-marburg.de
SUMMARY:Probe 4.7.2022
DESCRIPTION:19:00 – 22:00 Bruckner
URL:https://www.sso-marburg.de/event/probe-4-7-2022/
LOCATION:Audimax\, Biegenstraße 14\, Marburg\, 35037
CATEGORIES:Probe
ORGANIZER;CN="SSO%20Marburg%20e.V.":MAILTO:sso@sso-marburg.de
END:VEVENT
BEGIN:VEVENT
DTSTART;TZID=Europe/Berlin:20220627T190000
DTEND;TZID=Europe/Berlin:20220627T220000
DTSTAMP:20260424T205638
CREATED:20220622T161219Z
LAST-MODIFIED:20220622T161219Z
UID:3910-1656356400-1656367200@www.sso-marburg.de
SUMMARY:Probe 27.06.2022
DESCRIPTION:19:00 – 20:00: 1. Geigen\n20:00 – 22:00: Bruckner 4\, Rimsky-Korsakov\, Dragon
URL:https://www.sso-marburg.de/event/probe-27-06-2022/
LOCATION:Audimax\, Biegenstraße 14\, Marburg\, 35037
CATEGORIES:Alle Veranstaltungen,Probe
ORGANIZER;CN="SSO%20Marburg%20e.V.":MAILTO:sso@sso-marburg.de
END:VEVENT
BEGIN:VEVENT
DTSTART;TZID=Europe/Berlin:20220620T190000
DTEND;TZID=Europe/Berlin:20220620T220000
DTSTAMP:20260424T205638
CREATED:20220619T175414Z
LAST-MODIFIED:20220619T175414Z
UID:3908-1655751600-1655762400@www.sso-marburg.de
SUMMARY:Probe 20.06.22
DESCRIPTION:Bruckner 1-3
URL:https://www.sso-marburg.de/event/probe-20-06-22/
LOCATION:Audimax\, Biegenstraße 14\, Marburg\, 35037
CATEGORIES:Alle Veranstaltungen,Probe
ORGANIZER;CN="SSO%20Marburg%20e.V.":MAILTO:sso@sso-marburg.de
END:VEVENT
BEGIN:VEVENT
DTSTART;TZID=Europe/Berlin:20220607T190000
DTEND;TZID=Europe/Berlin:20220607T220000
DTSTAMP:20260424T205638
CREATED:20220530T114221Z
LAST-MODIFIED:20220607T072943Z
UID:3882-1654628400-1654639200@www.sso-marburg.de
SUMMARY:Registerprobe 7.6.2022
DESCRIPTION:1. Geigen: 00/0070\n2.Geigen: 00/0020\nBratschen: +1/0010 (erst ab 20Uhr)\nCelli: Audimax\nBlech: +1/0020\nHolz: +1/0030
URL:https://www.sso-marburg.de/event/registerprobe-7-6-2022/
CATEGORIES:Alle Veranstaltungen,Probe,Registerprobe
END:VEVENT
BEGIN:VEVENT
DTSTART;TZID=Europe/Berlin:20220530T190000
DTEND;TZID=Europe/Berlin:20220530T220000
DTSTAMP:20260424T205638
CREATED:20220530T113241Z
LAST-MODIFIED:20220530T114719Z
UID:3879-1653937200-1653948000@www.sso-marburg.de
SUMMARY:Probe 30.05.2022
DESCRIPTION:Programm: \nBruckner\, 4. & 2. Satz
URL:https://www.sso-marburg.de/event/probe-30-05-2022/
LOCATION:Audimax\, Biegenstraße 14\, Marburg\, 35037
CATEGORIES:Alle Veranstaltungen,Probe
ORGANIZER;CN="SSO%20Marburg%20e.V.":MAILTO:sso@sso-marburg.de
END:VEVENT
BEGIN:VEVENT
DTSTART;TZID=Europe/Berlin:20220523T190000
DTEND;TZID=Europe/Berlin:20220523T220000
DTSTAMP:20260424T205638
CREATED:20220517T153533Z
LAST-MODIFIED:20220518T161404Z
UID:3877-1653332400-1653343200@www.sso-marburg.de
SUMMARY:Probe 23.05.2022
DESCRIPTION:Programm: \nBruckner\, 1. Satz \nTsar’s Bride \nBruckner\, 4. Satz
URL:https://www.sso-marburg.de/event/probe-23-05-2022/
LOCATION:Audimax\, Biegenstraße 14\, Marburg\, 35037
CATEGORIES:Alle Veranstaltungen,Probe
ORGANIZER;CN="SSO%20Marburg%20e.V.":MAILTO:sso@sso-marburg.de
END:VEVENT
BEGIN:VEVENT
DTSTART;TZID=Europe/Berlin:20220425T190000
DTEND;TZID=Europe/Berlin:20220425T220000
DTSTAMP:20260424T205638
CREATED:20220424T060026Z
LAST-MODIFIED:20220424T060057Z
UID:3864-1650913200-1650924000@www.sso-marburg.de
SUMMARY:Probe 25.04
DESCRIPTION:Programm: \nBruckner\, 1.Satz
URL:https://www.sso-marburg.de/event/probe-25-04/
LOCATION:Audimax\, Biegenstraße 14\, Marburg\, 35037
CATEGORIES:Alle Veranstaltungen,Probe
ORGANIZER;CN="SSO%20Marburg%20e.V.":MAILTO:sso@sso-marburg.de
END:VEVENT
BEGIN:VEVENT
DTSTART;TZID=Europe/Berlin:20220419T190000
DTEND;TZID=Europe/Berlin:20220419T220000
DTSTAMP:20260424T205638
CREATED:20220412T081058Z
LAST-MODIFIED:20220412T081333Z
UID:3857-1650394800-1650405600@www.sso-marburg.de
SUMMARY:Probe Dienstag\, 19.04.22
DESCRIPTION:Programm: \nErste Hälfte: Bruckner\, 4. Satz\nZweite Hälfte: Bruckner\, 3. Satz
URL:https://www.sso-marburg.de/event/probe-dienstag-19-04-22/
LOCATION:Audimax\, Biegenstraße 14\, Marburg\, 35037
CATEGORIES:Alle Veranstaltungen,Probe
ORGANIZER;CN="SSO%20Marburg%20e.V.":MAILTO:sso@sso-marburg.de
END:VEVENT
BEGIN:VEVENT
DTSTART;TZID=Europe/Berlin:20220411T190000
DTEND;TZID=Europe/Berlin:20220411T220000
DTSTAMP:20260424T205638
CREATED:20220411T104356Z
LAST-MODIFIED:20220411T140823Z
UID:3854-1649703600-1649714400@www.sso-marburg.de
SUMMARY:Schnupperprobe 11.04.22
DESCRIPTION:Programm: \nBruckner\, Sätze 1+2\, eventuell noch ein wenig Rimsky-Korsakov. \nDenkt alle an Noten und Notenständer!
URL:https://www.sso-marburg.de/event/schnupperprobe-11-04-22/
LOCATION:Audimax\, Biegenstraße 14\, Marburg\, 35037
CATEGORIES:Alle Veranstaltungen,Probe,Wichtig
ORGANIZER;CN="SSO%20Marburg%20e.V.":MAILTO:sso@sso-marburg.de
END:VEVENT
END:VCALENDAR